BEGIN:VCALENDAR
VERSION:2.0
PRODID:-//Sandy - Gewoon vitaler - ECPv6.15.18//NONSGML v1.0//EN
CALSCALE:GREGORIAN
METHOD:PUBLISH
X-WR-CALNAME:Sandy - Gewoon vitaler
X-ORIGINAL-URL:https://sandygewoonvitaler.nl
X-WR-CALDESC:Evenementen voor Sandy - Gewoon vitaler
REFRESH-INTERVAL;VALUE=DURATION:PT1H
X-Robots-Tag:noindex
X-PUBLISHED-TTL:PT1H
BEGIN:VTIMEZONE
TZID:Europe/Amsterdam
BEGIN:DAYLIGHT
TZOFFSETFROM:+0100
TZOFFSETTO:+0200
TZNAME:CEST
DTSTART:20250330T010000
END:DAYLIGHT
BEGIN:STANDARD
TZOFFSETFROM:+0200
TZOFFSETTO:+0100
TZNAME:CET
DTSTART:20251026T010000
END:STANDARD
BEGIN:DAYLIGHT
TZOFFSETFROM:+0100
TZOFFSETTO:+0200
TZNAME:CEST
DTSTART:20260329T010000
END:DAYLIGHT
BEGIN:STANDARD
TZOFFSETFROM:+0200
TZOFFSETTO:+0100
TZNAME:CET
DTSTART:20261025T010000
END:STANDARD
BEGIN:DAYLIGHT
TZOFFSETFROM:+0100
TZOFFSETTO:+0200
TZNAME:CEST
DTSTART:20270328T010000
END:DAYLIGHT
BEGIN:STANDARD
TZOFFSETFROM:+0200
TZOFFSETTO:+0100
TZNAME:CET
DTSTART:20271031T010000
END:STANDARD
END:VTIMEZONE
BEGIN:VEVENT
DTSTART;TZID=Europe/Amsterdam:20260404T120000
DTEND;TZID=Europe/Amsterdam:20260404T130000
DTSTAMP:20260421T160116
CREATED:20260329T142824Z
LAST-MODIFIED:20260329T142824Z
UID:136-1775304000-1775307600@sandygewoonvitaler.nl
SUMMARY:Live presentatie : het belang van goede voeding voor lichaam en geest
DESCRIPTION:
URL:https://sandygewoonvitaler.nl/evenement/live-presentatie-het-belang-van-goede-voeding-voor-lichaam-en-geest/
END:VEVENT
END:VCALENDAR